BEGIN:VCALENDAR
VERSION:2.0
PRODID:-//El Conquistador - ECPv6.15.18//NONSGML v1.0//EN
CALSCALE:GREGORIAN
METHOD:PUBLISH
X-WR-CALNAME:El Conquistador
X-ORIGINAL-URL:https://www.elcongolf.com
X-WR-CALDESC:Events for El Conquistador
REFRESH-INTERVAL;VALUE=DURATION:PT1H
X-Robots-Tag:noindex
X-PUBLISHED-TTL:PT1H
BEGIN:VTIMEZONE
TZID:UTC
BEGIN:STANDARD
TZOFFSETFROM:+0000
TZOFFSETTO:+0000
TZNAME:UTC
DTSTART:20250101T000000
END:STANDARD
END:VTIMEZONE
BEGIN:VEVENT
DTSTART;TZID=UTC:20260306T170000
DTEND;TZID=UTC:20260306T190000
DTSTAMP:20260421T155222
CREATED:20260306T173410Z
LAST-MODIFIED:20260306T173410Z
UID:10000987-1772816400-1772823600@www.elcongolf.com
SUMMARY:Garrett James & The Wanderers
DESCRIPTION:Friday\, March 6\, 2026 5-7PM \nBuffett – $15
URL:https://www.elcongolf.com/event/garrett-james-the-wanderers/
LOCATION:The Overlook Restaurant
END:VEVENT
END:VCALENDAR