BEGIN:VCALENDAR
VERSION:2.0
PRODID:-//El Conquistador - ECPv6.15.18//NONSGML v1.0//EN
CALSCALE:GREGORIAN
METHOD:PUBLISH
X-ORIGINAL-URL:https://www.elcongolf.com
X-WR-CALDESC:Events for El Conquistador
REFRESH-INTERVAL;VALUE=DURATION:PT1H
X-Robots-Tag:noindex
X-PUBLISHED-TTL:PT1H
BEGIN:VTIMEZONE
TZID:UTC
BEGIN:STANDARD
TZOFFSETFROM:+0000
TZOFFSETTO:+0000
TZNAME:UTC
DTSTART:20250101T000000
END:STANDARD
END:VTIMEZONE
BEGIN:VEVENT
DTSTART;TZID=UTC:20260327T170000
DTEND;TZID=UTC:20260327T190000
DTSTAMP:20260421T154911
CREATED:20260326T211137Z
LAST-MODIFIED:20260326T211137Z
UID:10000992-1774630800-1774638000@www.elcongolf.com
SUMMARY:Fish Fry Dinner 5-7PM
DESCRIPTION:For Reservations: \nCall or Email Zach Olfers at 520.229.5355 or zolfers@elcongolf.com
URL:https://www.elcongolf.com/event/fish-fry-dinner-5-7pm/
LOCATION:The Overlook Restaurant
END:VEVENT
END:VCALENDAR