BEGIN:VCALENDAR
VERSION:2.0
PRODID:-//El Conquistador - ECPv6.15.18//NONSGML v1.0//EN
CALSCALE:GREGORIAN
METHOD:PUBLISH
X-ORIGINAL-URL:https://www.elcongolf.com
X-WR-CALDESC:Events for El Conquistador
REFRESH-INTERVAL;VALUE=DURATION:PT1H
X-Robots-Tag:noindex
X-PUBLISHED-TTL:PT1H
BEGIN:VTIMEZONE
TZID:UTC
BEGIN:STANDARD
TZOFFSETFROM:+0000
TZOFFSETTO:+0000
TZNAME:UTC
DTSTART:20250101T000000
END:STANDARD
END:VTIMEZONE
BEGIN:VEVENT
DTSTART;TZID=UTC:20260401T080000
DTEND;TZID=UTC:20260430T170000
DTSTAMP:20260421T142731
CREATED:20260316T175336Z
LAST-MODIFIED:20260316T175337Z
UID:10000988-1775030400-1777568400@www.elcongolf.com
SUMMARY:Els for Autism
DESCRIPTION:
URL:https://www.elcongolf.com/event/els-for-autism/
ATTACH;FMTTYPE=image/png:https://www.elcongolf.com/wp-content/uploads/sites/9697/2026/03/APRIL-2nd-Month-Els-For-Autism-4.png
END:VEVENT
BEGIN:VEVENT
DTSTART;TZID=UTC:20260417T170000
DTEND;TZID=UTC:20260417T190000
DTSTAMP:20260421T142731
CREATED:20260326T211716Z
LAST-MODIFIED:20260326T211854Z
UID:10000996-1776445200-1776452400@www.elcongolf.com
SUMMARY:Comfort Food Buffet Dinner 5-7PM
DESCRIPTION:For Reservations: \nCall or Email Zach Olfers at 520.229.5355 or zolfers@elcongolf.com
URL:https://www.elcongolf.com/event/comfort-food-buffet-dinner-5-7pm/
END:VEVENT
END:VCALENDAR