BEGIN:VCALENDAR
VERSION:2.0
PRODID:-//El Conquistador - ECPv6.15.18//NONSGML v1.0//EN
CALSCALE:GREGORIAN
METHOD:PUBLISH
X-WR-CALNAME:El Conquistador
X-ORIGINAL-URL:https://www.elcongolf.com
X-WR-CALDESC:Events for El Conquistador
REFRESH-INTERVAL;VALUE=DURATION:PT1H
X-Robots-Tag:noindex
X-PUBLISHED-TTL:PT1H
BEGIN:VTIMEZONE
TZID:UTC
BEGIN:STANDARD
TZOFFSETFROM:+0000
TZOFFSETTO:+0000
TZNAME:UTC
DTSTART:20250101T000000
END:STANDARD
END:VTIMEZONE
BEGIN:VEVENT
DTSTART;TZID=UTC:20260501T073000
DTEND;TZID=UTC:20260501T073000
DTSTAMP:20260423T094742
CREATED:20251223T220701Z
LAST-MODIFIED:20260131T205554Z
UID:10000861-1777620600-1777620600@www.elcongolf.com
SUMMARY:Men's Golf Day – 7:30am Shotgun Start
DESCRIPTION:
URL:https://www.elcongolf.com/event/mens-golf-day-730am-shotgun-start/2026-05-01/
END:VEVENT
BEGIN:VEVENT
DTSTART;TZID=UTC:20260501T170000
DTEND;TZID=UTC:20260501T190000
DTSTAMP:20260423T094742
CREATED:20260414T225546Z
LAST-MODIFIED:20260414T225949Z
UID:10001003-1777654800-1777662000@www.elcongolf.com
SUMMARY:Kaci Bays Happy Hour Event 5-7PM
DESCRIPTION:Kaci Bays performing live in The Overlook Restaurant from 5-7PM \nAppetizer & Drinks Specials \n  \nFor Reservations: \nCall or Email Zach Olfers at 520.229.5355 or zolfers@elcongolf.com
URL:https://www.elcongolf.com/event/kaci-bays-happy-hour-event-5-7pm/
LOCATION:The Overlook Restaurant
ATTACH;FMTTYPE=image/jpeg:https://www.elcongolf.com/wp-content/uploads/sites/9697/2026/04/Kaci-Bays-Happy-Hour-Flyer-5.1.26.jpg
END:VEVENT
END:VCALENDAR