BEGIN:VCALENDAR
VERSION:2.0
PRODID:-//El Conquistador - ECPv6.15.18//NONSGML v1.0//EN
CALSCALE:GREGORIAN
METHOD:PUBLISH
X-ORIGINAL-URL:https://www.elcongolf.com
X-WR-CALDESC:Events for El Conquistador
REFRESH-INTERVAL;VALUE=DURATION:PT1H
X-Robots-Tag:noindex
X-PUBLISHED-TTL:PT1H
BEGIN:VTIMEZONE
TZID:UTC
BEGIN:STANDARD
TZOFFSETFROM:+0000
TZOFFSETTO:+0000
TZNAME:UTC
DTSTART:20250101T000000
END:STANDARD
END:VTIMEZONE
BEGIN:VEVENT
DTSTART;TZID=UTC:20260510T080000
DTEND;TZID=UTC:20260510T080000
DTSTAMP:20260421T193338
CREATED:20260306T172559Z
LAST-MODIFIED:20260306T172559Z
UID:10000940-1778400000-1778400000@www.elcongolf.com
SUMMARY:Sunday Couples – 8:00am Shotgun Start
DESCRIPTION:
URL:https://www.elcongolf.com/event/sunday-couples-830am-shotgun-start-2/2026-05-10/
END:VEVENT
BEGIN:VEVENT
DTSTART;TZID=UTC:20260510T100000
DTEND;TZID=UTC:20260510T130000
DTSTAMP:20260421T193338
CREATED:20260326T211950Z
LAST-MODIFIED:20260326T211950Z
UID:10000997-1778407200-1778418000@www.elcongolf.com
SUMMARY:Mother's Day Brunch Buffet 10AM-1PM
DESCRIPTION:For Reservations: \nCall or Email Zach Olfers at 520.229.5355 or zolfers@elcongolf.com
URL:https://www.elcongolf.com/event/mothers-day-brunch-buffet-10am-1pm/
END:VEVENT
END:VCALENDAR