BEGIN:VCALENDAR
VERSION:2.0
PRODID:-//El Conquistador - ECPv6.15.18//NONSGML v1.0//EN
CALSCALE:GREGORIAN
METHOD:PUBLISH
X-WR-CALNAME:El Conquistador
X-ORIGINAL-URL:https://www.elcongolf.com
X-WR-CALDESC:Events for El Conquistador
REFRESH-INTERVAL;VALUE=DURATION:PT1H
X-Robots-Tag:noindex
X-PUBLISHED-TTL:PT1H
BEGIN:VTIMEZONE
TZID:UTC
BEGIN:STANDARD
TZOFFSETFROM:+0000
TZOFFSETTO:+0000
TZNAME:UTC
DTSTART:20250101T000000
END:STANDARD
END:VTIMEZONE
BEGIN:VEVENT
DTSTART;TZID=UTC:20260515T073000
DTEND;TZID=UTC:20260515T073000
DTSTAMP:20260423T105824
CREATED:20251223T220701Z
LAST-MODIFIED:20260131T205554Z
UID:10000863-1778830200-1778830200@www.elcongolf.com
SUMMARY:Men's Golf Day – 7:30am Shotgun Start
DESCRIPTION:
URL:https://www.elcongolf.com/event/mens-golf-day-730am-shotgun-start/2026-05-15/
END:VEVENT
BEGIN:VEVENT
DTSTART;TZID=UTC:20260515T170000
DTEND;TZID=UTC:20260515T190000
DTSTAMP:20260423T105824
CREATED:20260326T212031Z
LAST-MODIFIED:20260326T212031Z
UID:10000998-1778864400-1778871600@www.elcongolf.com
SUMMARY:Pasta Dinner Night 5-7PM
DESCRIPTION:For Reservations: \nCall or Email Zach Olfers at 520.229.5355 or zolfers@elcongolf.com
URL:https://www.elcongolf.com/event/pasta-dinner-night-5-7pm/
END:VEVENT
END:VCALENDAR