BEGIN:VCALENDAR
VERSION:2.0
PRODID:-//El Conquistador - ECPv6.15.18//NONSGML v1.0//EN
CALSCALE:GREGORIAN
METHOD:PUBLISH
X-ORIGINAL-URL:https://www.elcongolf.com
X-WR-CALDESC:Events for El Conquistador
REFRESH-INTERVAL;VALUE=DURATION:PT1H
X-Robots-Tag:noindex
X-PUBLISHED-TTL:PT1H
BEGIN:VTIMEZONE
TZID:UTC
BEGIN:STANDARD
TZOFFSETFROM:+0000
TZOFFSETTO:+0000
TZNAME:UTC
DTSTART:20250101T000000
END:STANDARD
END:VTIMEZONE
BEGIN:VEVENT
DTSTART;TZID=UTC:20260529T073000
DTEND;TZID=UTC:20260529T073000
DTSTAMP:20260421T161537
CREATED:20251223T220701Z
LAST-MODIFIED:20260131T205554Z
UID:10000865-1780039800-1780039800@www.elcongolf.com
SUMMARY:Men's Golf Day – 7:30am Shotgun Start
DESCRIPTION:
URL:https://www.elcongolf.com/event/mens-golf-day-730am-shotgun-start/2026-05-29/
END:VEVENT
BEGIN:VEVENT
DTSTART;TZID=UTC:20260529T170000
DTEND;TZID=UTC:20260529T190000
DTSTAMP:20260421T161537
CREATED:20260326T212247Z
LAST-MODIFIED:20260326T212247Z
UID:10001001-1780074000-1780081200@www.elcongolf.com
SUMMARY:Fish Fry Dinner 5-7PM
DESCRIPTION:For Reservations: \nCall or Email Zach Olfers at 520.229.5355 or zolfers@elcongolf.com
URL:https://www.elcongolf.com/event/fish-fry-dinner-5-7pm-2/
LOCATION:The Overlook Restaurant
END:VEVENT
END:VCALENDAR