BEGIN:VCALENDAR
VERSION:2.0
PRODID:-//El Conquistador - ECPv6.15.18//NONSGML v1.0//EN
CALSCALE:GREGORIAN
METHOD:PUBLISH
X-WR-CALNAME:El Conquistador
X-ORIGINAL-URL:https://www.elcongolf.com
X-WR-CALDESC:Events for El Conquistador
REFRESH-INTERVAL;VALUE=DURATION:PT1H
X-Robots-Tag:noindex
X-PUBLISHED-TTL:PT1H
BEGIN:VTIMEZONE
TZID:UTC
BEGIN:STANDARD
TZOFFSETFROM:+0000
TZOFFSETTO:+0000
TZNAME:UTC
DTSTART:20250101T000000
END:STANDARD
END:VTIMEZONE
BEGIN:VEVENT
DTSTART;TZID=UTC:20260612T073000
DTEND;TZID=UTC:20260612T073000
DTSTAMP:20260421T175127
CREATED:20251223T220701Z
LAST-MODIFIED:20260131T205554Z
UID:10000867-1781249400-1781249400@www.elcongolf.com
SUMMARY:Men's Golf Day – 7:30am Shotgun Start
DESCRIPTION:
URL:https://www.elcongolf.com/event/mens-golf-day-730am-shotgun-start/2026-06-12/
END:VEVENT
END:VCALENDAR