BEGIN:VCALENDAR
VERSION:2.0
PRODID:-//El Conquistador - ECPv6.15.18//NONSGML v1.0//EN
CALSCALE:GREGORIAN
METHOD:PUBLISH
X-ORIGINAL-URL:https://www.elcongolf.com
X-WR-CALDESC:Events for El Conquistador
REFRESH-INTERVAL;VALUE=DURATION:PT1H
X-Robots-Tag:noindex
X-PUBLISHED-TTL:PT1H
BEGIN:VTIMEZONE
TZID:UTC
BEGIN:STANDARD
TZOFFSETFROM:+0000
TZOFFSETTO:+0000
TZNAME:UTC
DTSTART:20250101T000000
END:STANDARD
END:VTIMEZONE
BEGIN:VEVENT
DTSTART;TZID=UTC:20260802T080000
DTEND;TZID=UTC:20260802T080000
DTSTAMP:20260423T084216
CREATED:20260306T172559Z
LAST-MODIFIED:20260306T172559Z
UID:10000952-1785657600-1785657600@www.elcongolf.com
SUMMARY:Sunday Couples – 8:00am Shotgun Start
DESCRIPTION:
URL:https://www.elcongolf.com/event/sunday-couples-830am-shotgun-start-2/2026-08-02/
END:VEVENT
BEGIN:VEVENT
DTSTART;TZID=UTC:20260804T083000
DTEND;TZID=UTC:20260804T083000
DTSTAMP:20260423T084216
CREATED:20251223T222642Z
LAST-MODIFIED:20251223T222642Z
UID:10000713-1785832200-1785832200@www.elcongolf.com
SUMMARY:Women's Golf Club - 8:30 AM Shotgun Start
DESCRIPTION:
URL:https://www.elcongolf.com/event/womens-golf-club-830-am-shotgun-start/2026-08-04/
END:VEVENT
BEGIN:VEVENT
DTSTART;TZID=UTC:20260805T080000
DTEND;TZID=UTC:20260805T080000
DTSTAMP:20260423T084216
CREATED:20251223T215842Z
LAST-MODIFIED:20251223T215842Z
UID:10000292-1785916800-1785916800@www.elcongolf.com
SUMMARY:Men’s Golf Day- Mar 8:00am Shotgun Start
DESCRIPTION:
URL:https://www.elcongolf.com/event/mens-golf-day-mar-800am-shotgun-start/2026-08-05/
END:VEVENT
BEGIN:VEVENT
DTSTART;TZID=UTC:20260807T073000
DTEND;TZID=UTC:20260807T073000
DTSTAMP:20260423T084216
CREATED:20251223T220701Z
LAST-MODIFIED:20260131T205554Z
UID:10000875-1786087800-1786087800@www.elcongolf.com
SUMMARY:Men's Golf Day – 7:30am Shotgun Start
DESCRIPTION:
URL:https://www.elcongolf.com/event/mens-golf-day-730am-shotgun-start/2026-08-07/
END:VEVENT
BEGIN:VEVENT
DTSTART;TZID=UTC:20260809T080000
DTEND;TZID=UTC:20260809T080000
DTSTAMP:20260423T084216
CREATED:20260306T172559Z
LAST-MODIFIED:20260306T172559Z
UID:10000953-1786262400-1786262400@www.elcongolf.com
SUMMARY:Sunday Couples – 8:00am Shotgun Start
DESCRIPTION:
URL:https://www.elcongolf.com/event/sunday-couples-830am-shotgun-start-2/2026-08-09/
END:VEVENT
BEGIN:VEVENT
DTSTART;TZID=UTC:20260811T083000
DTEND;TZID=UTC:20260811T083000
DTSTAMP:20260423T084216
CREATED:20251223T222642Z
LAST-MODIFIED:20251223T222642Z
UID:10000714-1786437000-1786437000@www.elcongolf.com
SUMMARY:Women's Golf Club - 8:30 AM Shotgun Start
DESCRIPTION:
URL:https://www.elcongolf.com/event/womens-golf-club-830-am-shotgun-start/2026-08-11/
END:VEVENT
BEGIN:VEVENT
DTSTART;TZID=UTC:20260812T080000
DTEND;TZID=UTC:20260812T080000
DTSTAMP:20260423T084216
CREATED:20251223T215842Z
LAST-MODIFIED:20251223T215842Z
UID:10000293-1786521600-1786521600@www.elcongolf.com
SUMMARY:Men’s Golf Day- Mar 8:00am Shotgun Start
DESCRIPTION:
URL:https://www.elcongolf.com/event/mens-golf-day-mar-800am-shotgun-start/2026-08-12/
END:VEVENT
BEGIN:VEVENT
DTSTART;TZID=UTC:20260814T073000
DTEND;TZID=UTC:20260814T073000
DTSTAMP:20260423T084216
CREATED:20251223T220701Z
LAST-MODIFIED:20260131T205554Z
UID:10000876-1786692600-1786692600@www.elcongolf.com
SUMMARY:Men's Golf Day – 7:30am Shotgun Start
DESCRIPTION:
URL:https://www.elcongolf.com/event/mens-golf-day-730am-shotgun-start/2026-08-14/
END:VEVENT
BEGIN:VEVENT
DTSTART;TZID=UTC:20260816T080000
DTEND;TZID=UTC:20260816T080000
DTSTAMP:20260423T084216
CREATED:20260306T172559Z
LAST-MODIFIED:20260306T172559Z
UID:10000954-1786867200-1786867200@www.elcongolf.com
SUMMARY:Sunday Couples – 8:00am Shotgun Start
DESCRIPTION:
URL:https://www.elcongolf.com/event/sunday-couples-830am-shotgun-start-2/2026-08-16/
END:VEVENT
BEGIN:VEVENT
DTSTART;TZID=UTC:20260818T083000
DTEND;TZID=UTC:20260818T083000
DTSTAMP:20260423T084216
CREATED:20251223T222642Z
LAST-MODIFIED:20251223T222642Z
UID:10000715-1787041800-1787041800@www.elcongolf.com
SUMMARY:Women's Golf Club - 8:30 AM Shotgun Start
DESCRIPTION:
URL:https://www.elcongolf.com/event/womens-golf-club-830-am-shotgun-start/2026-08-18/
END:VEVENT
BEGIN:VEVENT
DTSTART;TZID=UTC:20260819T080000
DTEND;TZID=UTC:20260819T080000
DTSTAMP:20260423T084216
CREATED:20251223T215842Z
LAST-MODIFIED:20251223T215842Z
UID:10000294-1787126400-1787126400@www.elcongolf.com
SUMMARY:Men’s Golf Day- Mar 8:00am Shotgun Start
DESCRIPTION:
URL:https://www.elcongolf.com/event/mens-golf-day-mar-800am-shotgun-start/2026-08-19/
END:VEVENT
BEGIN:VEVENT
DTSTART;TZID=UTC:20260821T073000
DTEND;TZID=UTC:20260821T073000
DTSTAMP:20260423T084216
CREATED:20251223T220701Z
LAST-MODIFIED:20260131T205554Z
UID:10000877-1787297400-1787297400@www.elcongolf.com
SUMMARY:Men's Golf Day – 7:30am Shotgun Start
DESCRIPTION:
URL:https://www.elcongolf.com/event/mens-golf-day-730am-shotgun-start/2026-08-21/
END:VEVENT
BEGIN:VEVENT
DTSTART;TZID=UTC:20260823T080000
DTEND;TZID=UTC:20260823T080000
DTSTAMP:20260423T084216
CREATED:20260306T172559Z
LAST-MODIFIED:20260306T172559Z
UID:10000955-1787472000-1787472000@www.elcongolf.com
SUMMARY:Sunday Couples – 8:00am Shotgun Start
DESCRIPTION:
URL:https://www.elcongolf.com/event/sunday-couples-830am-shotgun-start-2/2026-08-23/
END:VEVENT
BEGIN:VEVENT
DTSTART;TZID=UTC:20260825T083000
DTEND;TZID=UTC:20260825T083000
DTSTAMP:20260423T084216
CREATED:20251223T222642Z
LAST-MODIFIED:20251223T222642Z
UID:10000716-1787646600-1787646600@www.elcongolf.com
SUMMARY:Women's Golf Club - 8:30 AM Shotgun Start
DESCRIPTION:
URL:https://www.elcongolf.com/event/womens-golf-club-830-am-shotgun-start/2026-08-25/
END:VEVENT
BEGIN:VEVENT
DTSTART;TZID=UTC:20260826T080000
DTEND;TZID=UTC:20260826T080000
DTSTAMP:20260423T084216
CREATED:20251223T215842Z
LAST-MODIFIED:20251223T215842Z
UID:10000295-1787731200-1787731200@www.elcongolf.com
SUMMARY:Men’s Golf Day- Mar 8:00am Shotgun Start
DESCRIPTION:
URL:https://www.elcongolf.com/event/mens-golf-day-mar-800am-shotgun-start/2026-08-26/
END:VEVENT
BEGIN:VEVENT
DTSTART;TZID=UTC:20260828T073000
DTEND;TZID=UTC:20260828T073000
DTSTAMP:20260423T084216
CREATED:20251223T220701Z
LAST-MODIFIED:20260131T205554Z
UID:10000878-1787902200-1787902200@www.elcongolf.com
SUMMARY:Men's Golf Day – 7:30am Shotgun Start
DESCRIPTION:
URL:https://www.elcongolf.com/event/mens-golf-day-730am-shotgun-start/2026-08-28/
END:VEVENT
BEGIN:VEVENT
DTSTART;TZID=UTC:20260830T080000
DTEND;TZID=UTC:20260830T080000
DTSTAMP:20260423T084216
CREATED:20260306T172559Z
LAST-MODIFIED:20260306T172559Z
UID:10000956-1788076800-1788076800@www.elcongolf.com
SUMMARY:Sunday Couples – 8:00am Shotgun Start
DESCRIPTION:
URL:https://www.elcongolf.com/event/sunday-couples-830am-shotgun-start-2/2026-08-30/
END:VEVENT
END:VCALENDAR