BEGIN:VCALENDAR
VERSION:2.0
PRODID:-//El Conquistador - ECPv6.15.18//NONSGML v1.0//EN
CALSCALE:GREGORIAN
METHOD:PUBLISH
X-ORIGINAL-URL:https://www.elcongolf.com
X-WR-CALDESC:Events for El Conquistador
REFRESH-INTERVAL;VALUE=DURATION:PT1H
X-Robots-Tag:noindex
X-PUBLISHED-TTL:PT1H
BEGIN:VTIMEZONE
TZID:UTC
BEGIN:STANDARD
TZOFFSETFROM:+0000
TZOFFSETTO:+0000
TZNAME:UTC
DTSTART:20250101T000000
END:STANDARD
END:VTIMEZONE
BEGIN:VEVENT
DTSTART;TZID=UTC:20261101T080000
DTEND;TZID=UTC:20261101T080000
DTSTAMP:20260422T013655
CREATED:20260306T172559Z
LAST-MODIFIED:20260306T172559Z
UID:10000965-1793520000-1793520000@www.elcongolf.com
SUMMARY:Sunday Couples – 8:00am Shotgun Start
DESCRIPTION:
URL:https://www.elcongolf.com/event/sunday-couples-830am-shotgun-start-2/2026-11-01/
END:VEVENT
BEGIN:VEVENT
DTSTART;TZID=UTC:20261103T083000
DTEND;TZID=UTC:20261103T083000
DTSTAMP:20260422T013655
CREATED:20251223T222642Z
LAST-MODIFIED:20251223T222642Z
UID:10000726-1793694600-1793694600@www.elcongolf.com
SUMMARY:Women's Golf Club - 8:30 AM Shotgun Start
DESCRIPTION:
URL:https://www.elcongolf.com/event/womens-golf-club-830-am-shotgun-start/2026-11-03/
END:VEVENT
BEGIN:VEVENT
DTSTART;TZID=UTC:20261104T080000
DTEND;TZID=UTC:20261104T080000
DTSTAMP:20260422T013656
CREATED:20251223T215842Z
LAST-MODIFIED:20251223T215842Z
UID:10000305-1793779200-1793779200@www.elcongolf.com
SUMMARY:Men’s Golf Day- Mar 8:00am Shotgun Start
DESCRIPTION:
URL:https://www.elcongolf.com/event/mens-golf-day-mar-800am-shotgun-start/2026-11-04/
END:VEVENT
BEGIN:VEVENT
DTSTART;TZID=UTC:20261104T080000
DTEND;TZID=UTC:20261104T080000
DTSTAMP:20260422T013656
CREATED:20251223T220823Z
LAST-MODIFIED:20251223T220823Z
UID:10000405-1793779200-1793779200@www.elcongolf.com
SUMMARY:Men's Golf Day - 8:00am Shotgun Start
DESCRIPTION:
URL:https://www.elcongolf.com/event/mens-golf-day-800am-shotgun-start/2026-11-04/
END:VEVENT
BEGIN:VEVENT
DTSTART;TZID=UTC:20261104T083000
DTEND;TZID=UTC:20261104T083000
DTSTAMP:20260422T013656
CREATED:20251223T220935Z
LAST-MODIFIED:20251223T220950Z
UID:10000457-1793781000-1793781000@www.elcongolf.com
SUMMARY:Men's Golf Day - Nov 8:30 AM Shotgun Start
DESCRIPTION:
URL:https://www.elcongolf.com/event/mens-golf-day-830-am-shotgun-start/2026-11-04/
END:VEVENT
BEGIN:VEVENT
DTSTART;TZID=UTC:20261106T073000
DTEND;TZID=UTC:20261106T073000
DTSTAMP:20260422T013656
CREATED:20251223T220701Z
LAST-MODIFIED:20260131T205554Z
UID:10000888-1793950200-1793950200@www.elcongolf.com
SUMMARY:Men's Golf Day – 7:30am Shotgun Start
DESCRIPTION:
URL:https://www.elcongolf.com/event/mens-golf-day-730am-shotgun-start/2026-11-06/
END:VEVENT
BEGIN:VEVENT
DTSTART;TZID=UTC:20261108T080000
DTEND;TZID=UTC:20261108T080000
DTSTAMP:20260422T013656
CREATED:20260306T172559Z
LAST-MODIFIED:20260306T172559Z
UID:10000966-1794124800-1794124800@www.elcongolf.com
SUMMARY:Sunday Couples – 8:00am Shotgun Start
DESCRIPTION:
URL:https://www.elcongolf.com/event/sunday-couples-830am-shotgun-start-2/2026-11-08/
END:VEVENT
BEGIN:VEVENT
DTSTART;TZID=UTC:20261110T083000
DTEND;TZID=UTC:20261110T083000
DTSTAMP:20260422T013656
CREATED:20251223T222642Z
LAST-MODIFIED:20251223T222642Z
UID:10000727-1794299400-1794299400@www.elcongolf.com
SUMMARY:Women's Golf Club - 8:30 AM Shotgun Start
DESCRIPTION:
URL:https://www.elcongolf.com/event/womens-golf-club-830-am-shotgun-start/2026-11-10/
END:VEVENT
BEGIN:VEVENT
DTSTART;TZID=UTC:20261111T080000
DTEND;TZID=UTC:20261111T080000
DTSTAMP:20260422T013656
CREATED:20251223T215842Z
LAST-MODIFIED:20251223T215842Z
UID:10000306-1794384000-1794384000@www.elcongolf.com
SUMMARY:Men’s Golf Day- Mar 8:00am Shotgun Start
DESCRIPTION:
URL:https://www.elcongolf.com/event/mens-golf-day-mar-800am-shotgun-start/2026-11-11/
END:VEVENT
BEGIN:VEVENT
DTSTART;TZID=UTC:20261111T080000
DTEND;TZID=UTC:20261111T080000
DTSTAMP:20260422T013656
CREATED:20251223T220823Z
LAST-MODIFIED:20251223T220823Z
UID:10000406-1794384000-1794384000@www.elcongolf.com
SUMMARY:Men's Golf Day - 8:00am Shotgun Start
DESCRIPTION:
URL:https://www.elcongolf.com/event/mens-golf-day-800am-shotgun-start/2026-11-11/
END:VEVENT
BEGIN:VEVENT
DTSTART;TZID=UTC:20261111T083000
DTEND;TZID=UTC:20261111T083000
DTSTAMP:20260422T013656
CREATED:20251223T220935Z
LAST-MODIFIED:20251223T220950Z
UID:10000458-1794385800-1794385800@www.elcongolf.com
SUMMARY:Men's Golf Day - Nov 8:30 AM Shotgun Start
DESCRIPTION:
URL:https://www.elcongolf.com/event/mens-golf-day-830-am-shotgun-start/2026-11-11/
END:VEVENT
BEGIN:VEVENT
DTSTART;TZID=UTC:20261113T073000
DTEND;TZID=UTC:20261113T073000
DTSTAMP:20260422T013656
CREATED:20251223T220701Z
LAST-MODIFIED:20260131T205554Z
UID:10000889-1794555000-1794555000@www.elcongolf.com
SUMMARY:Men's Golf Day – 7:30am Shotgun Start
DESCRIPTION:
URL:https://www.elcongolf.com/event/mens-golf-day-730am-shotgun-start/2026-11-13/
END:VEVENT
BEGIN:VEVENT
DTSTART;TZID=UTC:20261115T080000
DTEND;TZID=UTC:20261115T080000
DTSTAMP:20260422T013656
CREATED:20260306T172559Z
LAST-MODIFIED:20260306T172559Z
UID:10000967-1794729600-1794729600@www.elcongolf.com
SUMMARY:Sunday Couples – 8:00am Shotgun Start
DESCRIPTION:
URL:https://www.elcongolf.com/event/sunday-couples-830am-shotgun-start-2/2026-11-15/
END:VEVENT
BEGIN:VEVENT
DTSTART;TZID=UTC:20261117T083000
DTEND;TZID=UTC:20261117T083000
DTSTAMP:20260422T013656
CREATED:20251223T222642Z
LAST-MODIFIED:20251223T222642Z
UID:10000728-1794904200-1794904200@www.elcongolf.com
SUMMARY:Women's Golf Club - 8:30 AM Shotgun Start
DESCRIPTION:
URL:https://www.elcongolf.com/event/womens-golf-club-830-am-shotgun-start/2026-11-17/
END:VEVENT
BEGIN:VEVENT
DTSTART;TZID=UTC:20261118T080000
DTEND;TZID=UTC:20261118T080000
DTSTAMP:20260422T013656
CREATED:20251223T215842Z
LAST-MODIFIED:20251223T215842Z
UID:10000307-1794988800-1794988800@www.elcongolf.com
SUMMARY:Men’s Golf Day- Mar 8:00am Shotgun Start
DESCRIPTION:
URL:https://www.elcongolf.com/event/mens-golf-day-mar-800am-shotgun-start/2026-11-18/
END:VEVENT
BEGIN:VEVENT
DTSTART;TZID=UTC:20261118T080000
DTEND;TZID=UTC:20261118T080000
DTSTAMP:20260422T013656
CREATED:20251223T220823Z
LAST-MODIFIED:20251223T220823Z
UID:10000407-1794988800-1794988800@www.elcongolf.com
SUMMARY:Men's Golf Day - 8:00am Shotgun Start
DESCRIPTION:
URL:https://www.elcongolf.com/event/mens-golf-day-800am-shotgun-start/2026-11-18/
END:VEVENT
BEGIN:VEVENT
DTSTART;TZID=UTC:20261118T083000
DTEND;TZID=UTC:20261118T083000
DTSTAMP:20260422T013656
CREATED:20251223T220935Z
LAST-MODIFIED:20251223T220950Z
UID:10000459-1794990600-1794990600@www.elcongolf.com
SUMMARY:Men's Golf Day - Nov 8:30 AM Shotgun Start
DESCRIPTION:
URL:https://www.elcongolf.com/event/mens-golf-day-830-am-shotgun-start/2026-11-18/
END:VEVENT
BEGIN:VEVENT
DTSTART;TZID=UTC:20261120T073000
DTEND;TZID=UTC:20261120T073000
DTSTAMP:20260422T013656
CREATED:20251223T220701Z
LAST-MODIFIED:20260131T205554Z
UID:10000890-1795159800-1795159800@www.elcongolf.com
SUMMARY:Men's Golf Day – 7:30am Shotgun Start
DESCRIPTION:
URL:https://www.elcongolf.com/event/mens-golf-day-730am-shotgun-start/2026-11-20/
END:VEVENT
BEGIN:VEVENT
DTSTART;TZID=UTC:20261122T080000
DTEND;TZID=UTC:20261122T080000
DTSTAMP:20260422T013656
CREATED:20260306T172559Z
LAST-MODIFIED:20260306T172559Z
UID:10000968-1795334400-1795334400@www.elcongolf.com
SUMMARY:Sunday Couples – 8:00am Shotgun Start
DESCRIPTION:
URL:https://www.elcongolf.com/event/sunday-couples-830am-shotgun-start-2/2026-11-22/
END:VEVENT
BEGIN:VEVENT
DTSTART;TZID=UTC:20261124T083000
DTEND;TZID=UTC:20261124T083000
DTSTAMP:20260422T013656
CREATED:20251223T222642Z
LAST-MODIFIED:20251223T222642Z
UID:10000729-1795509000-1795509000@www.elcongolf.com
SUMMARY:Women's Golf Club - 8:30 AM Shotgun Start
DESCRIPTION:
URL:https://www.elcongolf.com/event/womens-golf-club-830-am-shotgun-start/2026-11-24/
END:VEVENT
BEGIN:VEVENT
DTSTART;TZID=UTC:20261125T080000
DTEND;TZID=UTC:20261125T080000
DTSTAMP:20260422T013656
CREATED:20251223T215842Z
LAST-MODIFIED:20251223T215842Z
UID:10000308-1795593600-1795593600@www.elcongolf.com
SUMMARY:Men’s Golf Day- Mar 8:00am Shotgun Start
DESCRIPTION:
URL:https://www.elcongolf.com/event/mens-golf-day-mar-800am-shotgun-start/2026-11-25/
END:VEVENT
BEGIN:VEVENT
DTSTART;TZID=UTC:20261125T080000
DTEND;TZID=UTC:20261125T080000
DTSTAMP:20260422T013656
CREATED:20251223T220823Z
LAST-MODIFIED:20251223T220823Z
UID:10000408-1795593600-1795593600@www.elcongolf.com
SUMMARY:Men's Golf Day - 8:00am Shotgun Start
DESCRIPTION:
URL:https://www.elcongolf.com/event/mens-golf-day-800am-shotgun-start/2026-11-25/
END:VEVENT
BEGIN:VEVENT
DTSTART;TZID=UTC:20261125T083000
DTEND;TZID=UTC:20261125T083000
DTSTAMP:20260422T013656
CREATED:20251223T220935Z
LAST-MODIFIED:20251223T220950Z
UID:10000460-1795595400-1795595400@www.elcongolf.com
SUMMARY:Men's Golf Day - Nov 8:30 AM Shotgun Start
DESCRIPTION:
URL:https://www.elcongolf.com/event/mens-golf-day-830-am-shotgun-start/2026-11-25/
END:VEVENT
BEGIN:VEVENT
DTSTART;TZID=UTC:20261127T073000
DTEND;TZID=UTC:20261127T073000
DTSTAMP:20260422T013656
CREATED:20251223T220701Z
LAST-MODIFIED:20260131T205554Z
UID:10000891-1795764600-1795764600@www.elcongolf.com
SUMMARY:Men's Golf Day – 7:30am Shotgun Start
DESCRIPTION:
URL:https://www.elcongolf.com/event/mens-golf-day-730am-shotgun-start/2026-11-27/
END:VEVENT
BEGIN:VEVENT
DTSTART;TZID=UTC:20261129T080000
DTEND;TZID=UTC:20261129T080000
DTSTAMP:20260422T013656
CREATED:20260306T172559Z
LAST-MODIFIED:20260306T172559Z
UID:10000969-1795939200-1795939200@www.elcongolf.com
SUMMARY:Sunday Couples – 8:00am Shotgun Start
DESCRIPTION:
URL:https://www.elcongolf.com/event/sunday-couples-830am-shotgun-start-2/2026-11-29/
END:VEVENT
END:VCALENDAR