BEGIN:VCALENDAR
VERSION:2.0
PRODID:-//El Conquistador - ECPv6.15.18//NONSGML v1.0//EN
CALSCALE:GREGORIAN
METHOD:PUBLISH
X-WR-CALNAME:El Conquistador
X-ORIGINAL-URL:https://www.elcongolf.com
X-WR-CALDESC:Events for El Conquistador
REFRESH-INTERVAL;VALUE=DURATION:PT1H
X-Robots-Tag:noindex
X-PUBLISHED-TTL:PT1H
BEGIN:VTIMEZONE
TZID:UTC
BEGIN:STANDARD
TZOFFSETFROM:+0000
TZOFFSETTO:+0000
TZNAME:UTC
DTSTART:20250101T000000
END:STANDARD
END:VTIMEZONE
BEGIN:VEVENT
DTSTART;TZID=UTC:20261104T083000
DTEND;TZID=UTC:20261104T083000
DTSTAMP:20260423T095100
CREATED:20251223T220935Z
LAST-MODIFIED:20251223T220950Z
UID:10000457-1793781000-1793781000@www.elcongolf.com
SUMMARY:Men's Golf Day - Nov 8:30 AM Shotgun Start
DESCRIPTION:
URL:https://www.elcongolf.com/event/mens-golf-day-830-am-shotgun-start/2026-11-04/
END:VEVENT
BEGIN:VEVENT
DTSTART;TZID=UTC:20261111T083000
DTEND;TZID=UTC:20261111T083000
DTSTAMP:20260423T095100
CREATED:20251223T220935Z
LAST-MODIFIED:20251223T220950Z
UID:10000458-1794385800-1794385800@www.elcongolf.com
SUMMARY:Men's Golf Day - Nov 8:30 AM Shotgun Start
DESCRIPTION:
URL:https://www.elcongolf.com/event/mens-golf-day-830-am-shotgun-start/2026-11-11/
END:VEVENT
BEGIN:VEVENT
DTSTART;TZID=UTC:20261118T083000
DTEND;TZID=UTC:20261118T083000
DTSTAMP:20260423T095100
CREATED:20251223T220935Z
LAST-MODIFIED:20251223T220950Z
UID:10000459-1794990600-1794990600@www.elcongolf.com
SUMMARY:Men's Golf Day - Nov 8:30 AM Shotgun Start
DESCRIPTION:
URL:https://www.elcongolf.com/event/mens-golf-day-830-am-shotgun-start/2026-11-18/
END:VEVENT
BEGIN:VEVENT
DTSTART;TZID=UTC:20261125T083000
DTEND;TZID=UTC:20261125T083000
DTSTAMP:20260423T095100
CREATED:20251223T220935Z
LAST-MODIFIED:20251223T220950Z
UID:10000460-1795595400-1795595400@www.elcongolf.com
SUMMARY:Men's Golf Day - Nov 8:30 AM Shotgun Start
DESCRIPTION:
URL:https://www.elcongolf.com/event/mens-golf-day-830-am-shotgun-start/2026-11-25/
END:VEVENT
BEGIN:VEVENT
DTSTART;TZID=UTC:20261202T083000
DTEND;TZID=UTC:20261202T083000
DTSTAMP:20260423T095100
CREATED:20251223T220935Z
LAST-MODIFIED:20251223T220950Z
UID:10000461-1796200200-1796200200@www.elcongolf.com
SUMMARY:Men's Golf Day - Nov 8:30 AM Shotgun Start
DESCRIPTION:
URL:https://www.elcongolf.com/event/mens-golf-day-830-am-shotgun-start/2026-12-02/
END:VEVENT
BEGIN:VEVENT
DTSTART;TZID=UTC:20261209T083000
DTEND;TZID=UTC:20261209T083000
DTSTAMP:20260423T095100
CREATED:20251223T220935Z
LAST-MODIFIED:20251223T220950Z
UID:10000462-1796805000-1796805000@www.elcongolf.com
SUMMARY:Men's Golf Day - Nov 8:30 AM Shotgun Start
DESCRIPTION:
URL:https://www.elcongolf.com/event/mens-golf-day-830-am-shotgun-start/2026-12-09/
END:VEVENT
BEGIN:VEVENT
DTSTART;TZID=UTC:20261216T083000
DTEND;TZID=UTC:20261216T083000
DTSTAMP:20260423T095100
CREATED:20251223T220935Z
LAST-MODIFIED:20251223T220950Z
UID:10000463-1797409800-1797409800@www.elcongolf.com
SUMMARY:Men's Golf Day - Nov 8:30 AM Shotgun Start
DESCRIPTION:
URL:https://www.elcongolf.com/event/mens-golf-day-830-am-shotgun-start/2026-12-16/
END:VEVENT
BEGIN:VEVENT
DTSTART;TZID=UTC:20261223T083000
DTEND;TZID=UTC:20261223T083000
DTSTAMP:20260423T095100
CREATED:20251223T220935Z
LAST-MODIFIED:20251223T220950Z
UID:10000464-1798014600-1798014600@www.elcongolf.com
SUMMARY:Men's Golf Day - Nov 8:30 AM Shotgun Start
DESCRIPTION:
URL:https://www.elcongolf.com/event/mens-golf-day-830-am-shotgun-start/2026-12-23/
END:VEVENT
BEGIN:VEVENT
DTSTART;TZID=UTC:20261230T083000
DTEND;TZID=UTC:20261230T083000
DTSTAMP:20260423T095100
CREATED:20251223T220935Z
LAST-MODIFIED:20251223T220950Z
UID:10000465-1798619400-1798619400@www.elcongolf.com
SUMMARY:Men's Golf Day - Nov 8:30 AM Shotgun Start
DESCRIPTION:
URL:https://www.elcongolf.com/event/mens-golf-day-830-am-shotgun-start/2026-12-30/
END:VEVENT
BEGIN:VEVENT
DTSTART;TZID=UTC:20270106T083000
DTEND;TZID=UTC:20270106T083000
DTSTAMP:20260423T095100
CREATED:20251223T220935Z
LAST-MODIFIED:20251223T220950Z
UID:10000466-1799224200-1799224200@www.elcongolf.com
SUMMARY:Men's Golf Day - Nov 8:30 AM Shotgun Start
DESCRIPTION:
URL:https://www.elcongolf.com/event/mens-golf-day-830-am-shotgun-start/2027-01-06/
END:VEVENT
BEGIN:VEVENT
DTSTART;TZID=UTC:20270113T083000
DTEND;TZID=UTC:20270113T083000
DTSTAMP:20260423T095100
CREATED:20251223T220935Z
LAST-MODIFIED:20251223T220950Z
UID:10000467-1799829000-1799829000@www.elcongolf.com
SUMMARY:Men's Golf Day - Nov 8:30 AM Shotgun Start
DESCRIPTION:
URL:https://www.elcongolf.com/event/mens-golf-day-830-am-shotgun-start/2027-01-13/
END:VEVENT
BEGIN:VEVENT
DTSTART;TZID=UTC:20270120T083000
DTEND;TZID=UTC:20270120T083000
DTSTAMP:20260423T095100
CREATED:20251223T220935Z
LAST-MODIFIED:20251223T220950Z
UID:10000468-1800433800-1800433800@www.elcongolf.com
SUMMARY:Men's Golf Day - Nov 8:30 AM Shotgun Start
DESCRIPTION:
URL:https://www.elcongolf.com/event/mens-golf-day-830-am-shotgun-start/2027-01-20/
END:VEVENT
BEGIN:VEVENT
DTSTART;TZID=UTC:20270127T083000
DTEND;TZID=UTC:20270127T083000
DTSTAMP:20260423T095100
CREATED:20251223T220935Z
LAST-MODIFIED:20251223T220950Z
UID:10000469-1801038600-1801038600@www.elcongolf.com
SUMMARY:Men's Golf Day - Nov 8:30 AM Shotgun Start
DESCRIPTION:
URL:https://www.elcongolf.com/event/mens-golf-day-830-am-shotgun-start/2027-01-27/
END:VEVENT
BEGIN:VEVENT
DTSTART;TZID=UTC:20270203T083000
DTEND;TZID=UTC:20270203T083000
DTSTAMP:20260423T095100
CREATED:20251223T220935Z
LAST-MODIFIED:20251223T220950Z
UID:10000470-1801643400-1801643400@www.elcongolf.com
SUMMARY:Men's Golf Day - Nov 8:30 AM Shotgun Start
DESCRIPTION:
URL:https://www.elcongolf.com/event/mens-golf-day-830-am-shotgun-start/2027-02-03/
END:VEVENT
BEGIN:VEVENT
DTSTART;TZID=UTC:20270210T083000
DTEND;TZID=UTC:20270210T083000
DTSTAMP:20260423T095100
CREATED:20251223T220935Z
LAST-MODIFIED:20251223T220950Z
UID:10000471-1802248200-1802248200@www.elcongolf.com
SUMMARY:Men's Golf Day - Nov 8:30 AM Shotgun Start
DESCRIPTION:
URL:https://www.elcongolf.com/event/mens-golf-day-830-am-shotgun-start/2027-02-10/
END:VEVENT
BEGIN:VEVENT
DTSTART;TZID=UTC:20270217T083000
DTEND;TZID=UTC:20270217T083000
DTSTAMP:20260423T095100
CREATED:20251223T220935Z
LAST-MODIFIED:20251223T220950Z
UID:10000472-1802853000-1802853000@www.elcongolf.com
SUMMARY:Men's Golf Day - Nov 8:30 AM Shotgun Start
DESCRIPTION:
URL:https://www.elcongolf.com/event/mens-golf-day-830-am-shotgun-start/2027-02-17/
END:VEVENT
BEGIN:VEVENT
DTSTART;TZID=UTC:20270224T083000
DTEND;TZID=UTC:20270224T083000
DTSTAMP:20260423T095100
CREATED:20251223T220935Z
LAST-MODIFIED:20251223T220950Z
UID:10000473-1803457800-1803457800@www.elcongolf.com
SUMMARY:Men's Golf Day - Nov 8:30 AM Shotgun Start
DESCRIPTION:
URL:https://www.elcongolf.com/event/mens-golf-day-830-am-shotgun-start/2027-02-24/
END:VEVENT
BEGIN:VEVENT
DTSTART;TZID=UTC:20270303T083000
DTEND;TZID=UTC:20270303T083000
DTSTAMP:20260423T095100
CREATED:20251223T220935Z
LAST-MODIFIED:20251223T220950Z
UID:10000474-1804062600-1804062600@www.elcongolf.com
SUMMARY:Men's Golf Day - Nov 8:30 AM Shotgun Start
DESCRIPTION:
URL:https://www.elcongolf.com/event/mens-golf-day-830-am-shotgun-start/2027-03-03/
END:VEVENT
BEGIN:VEVENT
DTSTART;TZID=UTC:20270310T083000
DTEND;TZID=UTC:20270310T083000
DTSTAMP:20260423T095100
CREATED:20251223T220935Z
LAST-MODIFIED:20251223T220950Z
UID:10000475-1804667400-1804667400@www.elcongolf.com
SUMMARY:Men's Golf Day - Nov 8:30 AM Shotgun Start
DESCRIPTION:
URL:https://www.elcongolf.com/event/mens-golf-day-830-am-shotgun-start/2027-03-10/
END:VEVENT
BEGIN:VEVENT
DTSTART;TZID=UTC:20270317T083000
DTEND;TZID=UTC:20270317T083000
DTSTAMP:20260423T095100
CREATED:20251223T220935Z
LAST-MODIFIED:20251223T220950Z
UID:10000476-1805272200-1805272200@www.elcongolf.com
SUMMARY:Men's Golf Day - Nov 8:30 AM Shotgun Start
DESCRIPTION:
URL:https://www.elcongolf.com/event/mens-golf-day-830-am-shotgun-start/2027-03-17/
END:VEVENT
BEGIN:VEVENT
DTSTART;TZID=UTC:20270324T083000
DTEND;TZID=UTC:20270324T083000
DTSTAMP:20260423T095100
CREATED:20251223T220935Z
LAST-MODIFIED:20251223T220950Z
UID:10000477-1805877000-1805877000@www.elcongolf.com
SUMMARY:Men's Golf Day - Nov 8:30 AM Shotgun Start
DESCRIPTION:
URL:https://www.elcongolf.com/event/mens-golf-day-830-am-shotgun-start/2027-03-24/
END:VEVENT
BEGIN:VEVENT
DTSTART;TZID=UTC:20270331T083000
DTEND;TZID=UTC:20270331T083000
DTSTAMP:20260423T095100
CREATED:20251223T220935Z
LAST-MODIFIED:20251223T220950Z
UID:10000478-1806481800-1806481800@www.elcongolf.com
SUMMARY:Men's Golf Day - Nov 8:30 AM Shotgun Start
DESCRIPTION:
URL:https://www.elcongolf.com/event/mens-golf-day-830-am-shotgun-start/2027-03-31/
END:VEVENT
BEGIN:VEVENT
DTSTART;TZID=UTC:20270407T083000
DTEND;TZID=UTC:20270407T083000
DTSTAMP:20260423T095100
CREATED:20251223T220935Z
LAST-MODIFIED:20251223T220950Z
UID:10000479-1807086600-1807086600@www.elcongolf.com
SUMMARY:Men's Golf Day - Nov 8:30 AM Shotgun Start
DESCRIPTION:
URL:https://www.elcongolf.com/event/mens-golf-day-830-am-shotgun-start/2027-04-07/
END:VEVENT
BEGIN:VEVENT
DTSTART;TZID=UTC:20270414T083000
DTEND;TZID=UTC:20270414T083000
DTSTAMP:20260423T095100
CREATED:20251223T220935Z
LAST-MODIFIED:20251223T220950Z
UID:10000480-1807691400-1807691400@www.elcongolf.com
SUMMARY:Men's Golf Day - Nov 8:30 AM Shotgun Start
DESCRIPTION:
URL:https://www.elcongolf.com/event/mens-golf-day-830-am-shotgun-start/2027-04-14/
END:VEVENT
BEGIN:VEVENT
DTSTART;TZID=UTC:20270421T083000
DTEND;TZID=UTC:20270421T083000
DTSTAMP:20260423T095100
CREATED:20251223T220935Z
LAST-MODIFIED:20251223T220950Z
UID:10000481-1808296200-1808296200@www.elcongolf.com
SUMMARY:Men's Golf Day - Nov 8:30 AM Shotgun Start
DESCRIPTION:
URL:https://www.elcongolf.com/event/mens-golf-day-830-am-shotgun-start/2027-04-21/
END:VEVENT
BEGIN:VEVENT
DTSTART;TZID=UTC:20270428T083000
DTEND;TZID=UTC:20270428T083000
DTSTAMP:20260423T095100
CREATED:20251223T220935Z
LAST-MODIFIED:20251223T220950Z
UID:10000482-1808901000-1808901000@www.elcongolf.com
SUMMARY:Men's Golf Day - Nov 8:30 AM Shotgun Start
DESCRIPTION:
URL:https://www.elcongolf.com/event/mens-golf-day-830-am-shotgun-start/2027-04-28/
END:VEVENT
BEGIN:VEVENT
DTSTART;TZID=UTC:20270505T083000
DTEND;TZID=UTC:20270505T083000
DTSTAMP:20260423T095100
CREATED:20251223T220935Z
LAST-MODIFIED:20251223T220950Z
UID:10000483-1809505800-1809505800@www.elcongolf.com
SUMMARY:Men's Golf Day - Nov 8:30 AM Shotgun Start
DESCRIPTION:
URL:https://www.elcongolf.com/event/mens-golf-day-830-am-shotgun-start/2027-05-05/
END:VEVENT
BEGIN:VEVENT
DTSTART;TZID=UTC:20270512T083000
DTEND;TZID=UTC:20270512T083000
DTSTAMP:20260423T095100
CREATED:20251223T220935Z
LAST-MODIFIED:20251223T220950Z
UID:10000484-1810110600-1810110600@www.elcongolf.com
SUMMARY:Men's Golf Day - Nov 8:30 AM Shotgun Start
DESCRIPTION:
URL:https://www.elcongolf.com/event/mens-golf-day-830-am-shotgun-start/2027-05-12/
END:VEVENT
BEGIN:VEVENT
DTSTART;TZID=UTC:20270519T083000
DTEND;TZID=UTC:20270519T083000
DTSTAMP:20260423T095100
CREATED:20251223T220935Z
LAST-MODIFIED:20251223T220950Z
UID:10000485-1810715400-1810715400@www.elcongolf.com
SUMMARY:Men's Golf Day - Nov 8:30 AM Shotgun Start
DESCRIPTION:
URL:https://www.elcongolf.com/event/mens-golf-day-830-am-shotgun-start/2027-05-19/
END:VEVENT
BEGIN:VEVENT
DTSTART;TZID=UTC:20270526T083000
DTEND;TZID=UTC:20270526T083000
DTSTAMP:20260423T095100
CREATED:20251223T220935Z
LAST-MODIFIED:20251223T220950Z
UID:10000486-1811320200-1811320200@www.elcongolf.com
SUMMARY:Men's Golf Day - Nov 8:30 AM Shotgun Start
DESCRIPTION:
URL:https://www.elcongolf.com/event/mens-golf-day-830-am-shotgun-start/2027-05-26/
END:VEVENT
END:VCALENDAR